BEGIN:VCALENDAR
VERSION:2.0
PRODID:-//Louie&#039;s Cocktail Lounge Live Music Karaoke Sports Bar - ECPv6.15.20//NONSGML v1.0//EN
CALSCALE:GREGORIAN
METHOD:PUBLISH
X-ORIGINAL-URL:https://louiescocktaillounge.net
X-WR-CALDESC:Events for Louie&#039;s Cocktail Lounge Live Music Karaoke Sports Bar
REFRESH-INTERVAL;VALUE=DURATION:PT1H
X-Robots-Tag:noindex
X-PUBLISHED-TTL:PT1H
BEGIN:VTIMEZONE
TZID:America/Los_Angeles
BEGIN:DAYLIGHT
TZOFFSETFROM:-0800
TZOFFSETTO:-0700
TZNAME:PDT
DTSTART:20250309T100000
END:DAYLIGHT
BEGIN:STANDARD
TZOFFSETFROM:-0700
TZOFFSETTO:-0800
TZNAME:PST
DTSTART:20251102T090000
END:STANDARD
BEGIN:DAYLIGHT
TZOFFSETFROM:-0800
TZOFFSETTO:-0700
TZNAME:PDT
DTSTART:20260308T100000
END:DAYLIGHT
BEGIN:STANDARD
TZOFFSETFROM:-0700
TZOFFSETTO:-0800
TZNAME:PST
DTSTART:20261101T090000
END:STANDARD
BEGIN:DAYLIGHT
TZOFFSETFROM:-0800
TZOFFSETTO:-0700
TZNAME:PDT
DTSTART:20270314T100000
END:DAYLIGHT
BEGIN:STANDARD
TZOFFSETFROM:-0700
TZOFFSETTO:-0800
TZNAME:PST
DTSTART:20271107T090000
END:STANDARD
END:VTIMEZONE
BEGIN:VEVENT
DTSTART;TZID=America/Los_Angeles:20260627T210000
DTEND;TZID=America/Los_Angeles:20260628T013000
DTSTAMP:20260419T080820
CREATED:20260106T192250Z
LAST-MODIFIED:20260106T192250Z
UID:10003466-1782594000-1782610200@louiescocktaillounge.net
SUMMARY:Saturday Night Karaoke @ Louie's
DESCRIPTION:🎤 Saturday Night Karaoke at Louie’s Cocktail Lounge\n🕕 Open Daily: 6:00 AM – 2:00 AM🍹 Happy Hour: 6:00–10:00 AM & 4:00–7:00 PM \n🎶 Karaoke Nights:Wednesday • Thursday • Friday • SaturdayProfessional KJs • Live Stage • Dance Floor \n🎯 Features:• 13 HD Wide-Screen TVs• Professional Pool Tables• Electronic Game Machines• Surround Sound Music \n📍 Location:3030 Mather Field RdRancho Cordova\, CA 95670(Conveniently off Highway 50) \nCheck the website calendar for daily events.Where the party never stops. 🍻🎶
URL:https://louiescocktaillounge.net/event1/saturday-night-karaoke-louies-2/2026-06-27/
LOCATION:Louie’s Cocktail Lounge\, 3030 Mather Field Road\, Rancho Cordova\, CA 95670\, Rancho Cordova\, CA\, 95670
CATEGORIES:Louie's Special Event
ATTACH;FMTTYPE=image/jpeg:https://louiescocktaillounge.net/wp-content/uploads/2026/01/Karaoke-Saturday-12272023-Green-Eventbrite-2024-a-2.jpg
ORGANIZER;CN="Louie's Cocktail Lounge":MAILTO:info@louiescocktaillounge.net
END:VEVENT
BEGIN:VEVENT
DTSTART;TZID=America/Los_Angeles:20260630T193000
DTEND;TZID=America/Los_Angeles:20260630T220000
DTSTAMP:20260419T080820
CREATED:20251224T025308Z
LAST-MODIFIED:20251224T025309Z
UID:10003258-1782847800-1782856800@louiescocktaillounge.net
SUMMARY:TUESDAY NIGHT BINGO at Louie’s!
DESCRIPTION:🎉 TUESDAY NIGHT BINGO at Louie’s! 🎉📅 Every Tuesday • 7:30PM – 10PM \nBring your friends\, grab your lucky card\, and get ready for a fun night of laughs\, prizes\, and good drinks at Louie’s Cocktail Lounge! We’re open 6am–2am daily with two Happy Hours (6–10am & 4–7pm)\, so you can come early\, warm up\, and enjoy the vibe. \nWhile you’re here\, enjoy:🎤 Top Sacramento KJ’s & live stage🕺 Big dance floor📺 13 HD wide-screen TVs🎱 Pro pool tables🎮 Electronic game machines🔊 Surround Sound Music Box \n📍 3030 Mather Field Rd\, Rancho Cordova\, CA 95670Check the website calendar for all weekly events—At Louie’s\, the party never stops!
URL:https://louiescocktaillounge.net/event1/tuesday-night-bingo-at-louies/2026-06-30/
LOCATION:Louie’s Cocktail Lounge\, 3030 Mather Field Road\, Rancho Cordova\, CA 95670\, Rancho Cordova\, CA\, 95670
CATEGORIES:Louie's Special Event
ATTACH;FMTTYPE=image/jpeg:https://louiescocktaillounge.net/wp-content/uploads/2025/12/Bingo-night.jpg
ORGANIZER;CN="Louie's Cocktail Lounge":MAILTO:info@louiescocktaillounge.net
END:VEVENT
BEGIN:VEVENT
DTSTART;TZID=America/Los_Angeles:20260701T210000
DTEND;TZID=America/Los_Angeles:20260702T013000
DTSTAMP:20260419T080820
CREATED:20251226T033825Z
LAST-MODIFIED:20251226T033826Z
UID:10003310-1782939600-1782955800@louiescocktaillounge.net
SUMMARY:Wednesday Night Karaoke @ Louie's
DESCRIPTION:🎤 Wednesday Night Karaoke at Louie’s Cocktail Lounge\n🕕 Open Daily: 6:00 AM – 2:00 AM🍹 Happy Hour: 6:00–10:00 AM & 4:00–7:00 PM \n🎶 Karaoke Nights:Wednesday • Thursday • Friday • SaturdayProfessional KJs • Live Stage • Dance Floor \n🎯 Features:• 13 HD Wide-Screen TVs• Professional Pool Tables• Electronic Game Machines• Surround Sound Music \n📍 Location:3030 Mather Field RdRancho Cordova\, CA 95670(Conveniently off Highway 50) \nCheck the website calendar for daily events.Where the party never stops. 🍻🎶
URL:https://louiescocktaillounge.net/event1/wednesday-night-karaoke-louies/2026-07-01/
LOCATION:Louie’s Cocktail Lounge\, 3030 Mather Field Road\, Rancho Cordova\, CA 95670\, Rancho Cordova\, CA\, 95670
CATEGORIES:Louie's Special Event
ATTACH;FMTTYPE=image/jpeg:https://louiescocktaillounge.net/wp-content/uploads/2025/12/Karaoke-12272023-Orange-Facebook-2.jpg
ORGANIZER;CN="Louie's Cocktail Lounge":MAILTO:info@louiescocktaillounge.net
END:VEVENT
BEGIN:VEVENT
DTSTART;TZID=America/Los_Angeles:20260702T210000
DTEND;TZID=America/Los_Angeles:20260703T013000
DTSTAMP:20260419T080820
CREATED:20251226T034547Z
LAST-MODIFIED:20251226T034547Z
UID:10003363-1783026000-1783042200@louiescocktaillounge.net
SUMMARY:Thursday Night Karaoke @ Louie's
DESCRIPTION:🎤 Thursday Night Karaoke at Louie’s Cocktail Lounge\n🕕 Open Daily: 6:00 AM – 2:00 AM🍹 Happy Hour: 6:00–10:00 AM & 4:00–7:00 PM \n🎶 Karaoke Nights:Wednesday • Thursday • Friday • SaturdayProfessional KJs • Live Stage • Dance Floor \n🎯 Features:• 13 HD Wide-Screen TVs• Professional Pool Tables• Electronic Game Machines• Surround Sound Music \n📍 Location:3030 Mather Field RdRancho Cordova\, CA 95670(Conveniently off Highway 50) \nCheck the website calendar for daily events.Where the party never stops. 🍻🎶
URL:https://louiescocktaillounge.net/event1/thursday-night-karaoke-louies/2026-07-02/
LOCATION:Louie’s Cocktail Lounge\, 3030 Mather Field Road\, Rancho Cordova\, CA 95670\, Rancho Cordova\, CA\, 95670
CATEGORIES:Louie's Special Event
ATTACH;FMTTYPE=image/jpeg:https://louiescocktaillounge.net/wp-content/uploads/2025/12/Karaoke-10232023-Red-b-3.jpg
ORGANIZER;CN="Louie's Cocktail Lounge":MAILTO:info@louiescocktaillounge.net
END:VEVENT
BEGIN:VEVENT
DTSTART;TZID=America/Los_Angeles:20260703T210000
DTEND;TZID=America/Los_Angeles:20260704T013000
DTSTAMP:20260419T080820
CREATED:20260106T191916Z
LAST-MODIFIED:20260106T192400Z
UID:10003416-1783112400-1783128600@louiescocktaillounge.net
SUMMARY:Friday Night Karaoke @ Louie's
DESCRIPTION:🎤 Friday Night Karaoke at Louie’s Cocktail Lounge\n🕕 Open Daily: 6:00 AM – 2:00 AM🍹 Happy Hour: 6:00–10:00 AM & 4:00–7:00 PM \n🎶 Karaoke Nights:Wednesday • Thursday • Friday • SaturdayProfessional KJs • Live Stage • Dance Floor \n🎯 Features:• 13 HD Wide-Screen TVs• Professional Pool Tables• Electronic Game Machines• Surround Sound Music \n📍 Location:3030 Mather Field RdRancho Cordova\, CA 95670(Conveniently off Highway 50) \nCheck the website calendar for daily events.Where the party never stops. 🍻🎶
URL:https://louiescocktaillounge.net/event1/friday-night-karaoke-louies-2/2026-07-03/
LOCATION:Louie’s Cocktail Lounge\, 3030 Mather Field Road\, Rancho Cordova\, CA 95670\, Rancho Cordova\, CA\, 95670
CATEGORIES:Louie's Special Event
ATTACH;FMTTYPE=image/jpeg:https://louiescocktaillounge.net/wp-content/uploads/2026/01/Karaoke-10232023-Blue-b-3.jpg
ORGANIZER;CN="Louie's Cocktail Lounge":MAILTO:info@louiescocktaillounge.net
END:VEVENT
BEGIN:VEVENT
DTSTART;TZID=America/Los_Angeles:20260704T210000
DTEND;TZID=America/Los_Angeles:20260705T013000
DTSTAMP:20260419T080820
CREATED:20260106T192250Z
LAST-MODIFIED:20260106T192250Z
UID:10003467-1783198800-1783215000@louiescocktaillounge.net
SUMMARY:Saturday Night Karaoke @ Louie's
DESCRIPTION:🎤 Saturday Night Karaoke at Louie’s Cocktail Lounge\n🕕 Open Daily: 6:00 AM – 2:00 AM🍹 Happy Hour: 6:00–10:00 AM & 4:00–7:00 PM \n🎶 Karaoke Nights:Wednesday • Thursday • Friday • SaturdayProfessional KJs • Live Stage • Dance Floor \n🎯 Features:• 13 HD Wide-Screen TVs• Professional Pool Tables• Electronic Game Machines• Surround Sound Music \n📍 Location:3030 Mather Field RdRancho Cordova\, CA 95670(Conveniently off Highway 50) \nCheck the website calendar for daily events.Where the party never stops. 🍻🎶
URL:https://louiescocktaillounge.net/event1/saturday-night-karaoke-louies-2/2026-07-04/
LOCATION:Louie’s Cocktail Lounge\, 3030 Mather Field Road\, Rancho Cordova\, CA 95670\, Rancho Cordova\, CA\, 95670
CATEGORIES:Louie's Special Event
ATTACH;FMTTYPE=image/jpeg:https://louiescocktaillounge.net/wp-content/uploads/2026/01/Karaoke-Saturday-12272023-Green-Eventbrite-2024-a-2.jpg
ORGANIZER;CN="Louie's Cocktail Lounge":MAILTO:info@louiescocktaillounge.net
END:VEVENT
END:VCALENDAR