BEGIN:VCALENDAR
VERSION:2.0
PRODID:-//Louie&#039;s Cocktail Lounge Live Music Karaoke Sports Bar - ECPv6.15.20//NONSGML v1.0//EN
CALSCALE:GREGORIAN
METHOD:PUBLISH
X-WR-CALNAME:Louie&#039;s Cocktail Lounge Live Music Karaoke Sports Bar
X-ORIGINAL-URL:https://louiescocktaillounge.net
X-WR-CALDESC:Events for Louie&#039;s Cocktail Lounge Live Music Karaoke Sports Bar
REFRESH-INTERVAL;VALUE=DURATION:PT1H
X-Robots-Tag:noindex
X-PUBLISHED-TTL:PT1H
BEGIN:VTIMEZONE
TZID:America/Los_Angeles
BEGIN:DAYLIGHT
TZOFFSETFROM:-0800
TZOFFSETTO:-0700
TZNAME:PDT
DTSTART:20250309T100000
END:DAYLIGHT
BEGIN:STANDARD
TZOFFSETFROM:-0700
TZOFFSETTO:-0800
TZNAME:PST
DTSTART:20251102T090000
END:STANDARD
BEGIN:DAYLIGHT
TZOFFSETFROM:-0800
TZOFFSETTO:-0700
TZNAME:PDT
DTSTART:20260308T100000
END:DAYLIGHT
BEGIN:STANDARD
TZOFFSETFROM:-0700
TZOFFSETTO:-0800
TZNAME:PST
DTSTART:20261101T090000
END:STANDARD
BEGIN:DAYLIGHT
TZOFFSETFROM:-0800
TZOFFSETTO:-0700
TZNAME:PDT
DTSTART:20270314T100000
END:DAYLIGHT
BEGIN:STANDARD
TZOFFSETFROM:-0700
TZOFFSETTO:-0800
TZNAME:PST
DTSTART:20271107T090000
END:STANDARD
END:VTIMEZONE
BEGIN:VEVENT
DTSTART;TZID=America/Los_Angeles:20260320T190000
DTEND;TZID=America/Los_Angeles:20260320T230000
DTSTAMP:20260421T064150
CREATED:20260119T184331Z
LAST-MODIFIED:20260119T185227Z
UID:10003546-1774033200-1774047600@louiescocktaillounge.net
SUMMARY:3.20.2026 Midget Wrestling 1
DESCRIPTION:🎉 MicroMania Midget Wrestling – Night 1 | Rancho Cordova\, CA \n🔥 The Biggest Little Show in the USA returns to Louie’s Cocktail Lounge on Friday\, March 20\, 2026 for Night 1 of MicroMania Midget Wrestling! This high-energy pro wrestling event delivers explosive athletic action\, outrageous comedy\, and nonstop entertainment from the opening bell to the main event. These 5-foot-and-under micro athletes may be small in stature\, but they are giants in the ring—guaranteed to keep you on your feet all night. \n📍 Location: Louie’s Cocktail Lounge\, Rancho Cordova\, CA📅 Date: Friday\, March 20\, 2026🚪 Doors Open: 7:00 PM🔔 Show Time: 9:00 PM🔞 Age Requirement: 21+ \n🎟 Tickets:• $20 General Admission (presale)• $40 Ringside Seating (presale)• +$5 day of show• $180 Guest Referee Package (limited – only 2 spots)• $300 Sponsorship Package (includes 5 GA tickets) \n🎥 Promo Video: https://youtu.be/iV-Z5XgSdE0 \n💼 Business Sponsorships:Promote your business during one of the most talked-about live wrestling events in California. Call Billy Blade (805) 260-5586 for details. \n⚠️ Tickets are non-refundable unless the event is canceled.
URL:https://louiescocktaillounge.net/event1/3-21-2026-midget-wrestling-1/
LOCATION:Louie’s Cocktail Lounge\, 3030 Mather Field Road\, Rancho Cordova\, CA 95670\, Rancho Cordova\, CA\, 95670
CATEGORIES:Louie's Special Event
ATTACH;FMTTYPE=image/jpeg:https://louiescocktaillounge.net/wp-content/uploads/2026/01/Midget-Friday-1252025-2.jpg
ORGANIZER;CN="Louie's Cocktail Lounge":MAILTO:info@louiescocktaillounge.net
END:VEVENT
BEGIN:VEVENT
DTSTART;TZID=America/Los_Angeles:20260320T210000
DTEND;TZID=America/Los_Angeles:20260321T013000
DTSTAMP:20260421T064150
CREATED:20260106T191916Z
LAST-MODIFIED:20260106T192400Z
UID:10003401-1774040400-1774056600@louiescocktaillounge.net
SUMMARY:Friday Night Karaoke @ Louie's
DESCRIPTION:🎤 Friday Night Karaoke at Louie’s Cocktail Lounge\n🕕 Open Daily: 6:00 AM – 2:00 AM🍹 Happy Hour: 6:00–10:00 AM & 4:00–7:00 PM \n🎶 Karaoke Nights:Wednesday • Thursday • Friday • SaturdayProfessional KJs • Live Stage • Dance Floor \n🎯 Features:• 13 HD Wide-Screen TVs• Professional Pool Tables• Electronic Game Machines• Surround Sound Music \n📍 Location:3030 Mather Field RdRancho Cordova\, CA 95670(Conveniently off Highway 50) \nCheck the website calendar for daily events.Where the party never stops. 🍻🎶
URL:https://louiescocktaillounge.net/event1/friday-night-karaoke-louies-2/2026-03-20/
LOCATION:Louie’s Cocktail Lounge\, 3030 Mather Field Road\, Rancho Cordova\, CA 95670\, Rancho Cordova\, CA\, 95670
CATEGORIES:Louie's Special Event
ATTACH;FMTTYPE=image/jpeg:https://louiescocktaillounge.net/wp-content/uploads/2026/01/Karaoke-10232023-Blue-b-3.jpg
ORGANIZER;CN="Louie's Cocktail Lounge":MAILTO:info@louiescocktaillounge.net
END:VEVENT
END:VCALENDAR